BEGIN:VCALENDAR
VERSION:2.0
PRODID:-//www.nebraskachildren.org//NONSGML kigkonsult.se iCalcreator 2.30.
 10//
CALSCALE:GREGORIAN
METHOD:PUBLISH
UID:f8bb371b-b98a-4447-91e4-2343451bfcc7
X-WR-CALDESC:At the completion of this training\, participants will be reco
 gnized as a Nebraska Pyramid Module Trainer. \n\nThe Nebraska Pyramid Modu
 les Training of Trainers is not an entry-level Pyramid Model training. Pri
 or to attending this training\, participants are expected to have comprehe
 nsive knowledge of the Pyramid Model\, having previously attended all Pyra
 mid Module Trainings. \n\n<b>Trainers for 2026:</b> Katie Zabel and Hayley
  Jackson Perez\n\nFor more information on Nebraska Pyramid Module Trainer 
 requirements\, see <u><a href='https://drive.google.com/file/d/1YWV7UJGVeF
 tiQC40f2TROHa8FFNCAern/view?usp=sharing'>this document.</a></u>\n\n<b></b>
 <h4><b>Before proceeding\, you MUST have attended all the Pyramid Module T
 rainings.</b></h4><b></b> If you have not attended all Pyramid Module Trai
 nings OR completed the e-Modules\, please contact Christen Million (cmilli
 on@nebraskachildren.org) before registering.\n
X-WR-RELCALID:3baf6342447d2594fd1bea5c265c2d2c
X-WR-TIMEZONE:America/Chicago
BEGIN:VTIMEZONE
TZID:America/Chicago
BEGIN:STANDARD
TZNAME:CST
DTSTART:20251102T020000
TZOFFSETFROM:-0500
TZOFFSETTO:-0600
RDATE:20261101T020000
RDATE:20271107T020000
END:STANDARD
BEGIN:DAYLIGHT
TZNAME:CDT
DTSTART:20260308T020000
TZOFFSETFROM:-0600
TZOFFSETTO:-0500
RDATE:20270314T020000
END:DAYLIGHT
END:VTIMEZONE
BEGIN:VEVENT
UID:37ff590c-491d-4d88-b3cb-fff8f6ced18a
DTSTAMP:20260425T005316Z
DESCRIPTION:At the completion of this training\, participants will be recog
 nized as a Nebraska Pyramid Module Trainer. \n\nThe Nebraska Pyramid Modul
 es Training of Trainers is not an entry-level Pyramid Model training. Prio
 r to attending this training\, participants are expected to have comprehen
 sive knowledge of the Pyramid Model\, having previously attended all Pyram
 id Module Trainings. \n\n<b>Trainers for 2026:</b> Katie Zabel and Hayley 
 Jackson Perez\n\nFor more information on Nebraska Pyramid Module Trainer r
 equirements\, see <u><a href='https://drive.google.com/file/d/1YWV7UJGVeFt
 iQC40f2TROHa8FFNCAern/view?usp=sharing'>this document.</a></u>\n\n<b></b><
 h4><b>Before proceeding\, you MUST have attended all the Pyramid Module Tr
 ainings.</b></h4><b></b> If you have not attended all Pyramid Module Train
 ings OR completed the e-Modules\, please contact Christen Million (cmillio
 n@nebraskachildren.org) before registering.\n
DTSTART;TZID=America/Chicago:20260603T100000
DTEND;TZID=America/Chicago:20260603T150000
LOCATION:Hope Community Church\, 530 W Sanctuary Rd\, Lincoln\, NE 68523 US
SUMMARY:Nebraska Pyramid Module Training of Trainers — Day 1
END:VEVENT
END:VCALENDAR
